BEGIN:VCALENDAR
VERSION:2.0
PRODID:-//Wegwarte ElmEvents - ECPv6.15.15//NONSGML v1.0//EN
CALSCALE:GREGORIAN
METHOD:PUBLISH
X-ORIGINAL-URL:https://wegwarte-lucklum.de
X-WR-CALDESC:Veranstaltungen für Wegwarte ElmEvents
REFRESH-INTERVAL;VALUE=DURATION:PT1H
X-Robots-Tag:noindex
X-PUBLISHED-TTL:PT1H
BEGIN:VTIMEZONE
TZID:Europe/Berlin
BEGIN:DAYLIGHT
TZOFFSETFROM:+0100
TZOFFSETTO:+0200
TZNAME:CEST
DTSTART:20240331T010000
END:DAYLIGHT
BEGIN:STANDARD
TZOFFSETFROM:+0200
TZOFFSETTO:+0100
TZNAME:CET
DTSTART:20241027T010000
END:STANDARD
BEGIN:DAYLIGHT
TZOFFSETFROM:+0100
TZOFFSETTO:+0200
TZNAME:CEST
DTSTART:20250330T010000
END:DAYLIGHT
BEGIN:STANDARD
TZOFFSETFROM:+0200
TZOFFSETTO:+0100
TZNAME:CET
DTSTART:20251026T010000
END:STANDARD
BEGIN:DAYLIGHT
TZOFFSETFROM:+0100
TZOFFSETTO:+0200
TZNAME:CEST
DTSTART:20260329T010000
END:DAYLIGHT
BEGIN:STANDARD
TZOFFSETFROM:+0200
TZOFFSETTO:+0100
TZNAME:CET
DTSTART:20261025T010000
END:STANDARD
END:VTIMEZONE
BEGIN:VEVENT
DTSTART;TZID=Europe/Berlin:20250524T200000
DTEND;TZID=Europe/Berlin:20250524T230000
DTSTAMP:20260421T153533
CREATED:20250317T184253Z
LAST-MODIFIED:20250317T184253Z
UID:2140-1748116800-1748127600@wegwarte-lucklum.de
SUMMARY:Randi Tytingvåg Trio
DESCRIPTION:Eine einzigartige Sängerin\, die von Folk\, Jazz und der Singer-Songwriter-Tradition beeinflusst ist. \nRandi ist bekannt für ihre warme\, unverwechselbare Stimme. Es trägt eine dualistische Mischung in sich; Stark und zerbrechlich zugleich. Sie hat eine starke Präsenz und eine ehrliche Art\, mit ihrem Publikum zu kommunizieren. Ihr Songwriting ist eine natürliche Fortsetzung davon. Zusammen mit den großartigen Musikern Dag Vagle und Erlend E. Aasland hat sie das Randi Tytingvåg Trio gegründet. Sie haben ihren eigenen\, sehr ruhigen Flow gefunden\, zelebrieren den Klang von Stimmen und Streichern. Sie spielen um ein Mikrofon herum; auf die altmodische\, von Herzen kommende Art! Keine Backline oder Monitore erforderlich. Sie zeichnen sich als einzigartiges kleines Kammerorchester mit einem großen Dynamikumfang aus.\nAuch der Dichter Helge Torvund ist ein wichtiger Teil dieser Klanglandschaft. Die Zusammenarbeit von Helge und Randi an den Texten ist ein wirklich inspirierender und echter Flow. Gemeinsam haben sie eine Basis gefunden\, die auf dem Wunsch basiert\, dass das Licht durch ihre Arbeit scheinen soll. Sie arbeiteten zunächst gemeinsam an dem Album The Light You Need Exists (2019) und begannen dann mit der Zusammenarbeit an ihren ersten norwegischen Songs. Das Album Trøsteviser for redde netter (Tröstende Lieder für ängstliche Nächte) wurde im Herbst 2021 veröffentlicht. Und jetzt ist gerade das neue Album Hjem (Home) erschienen.\nDas Randi Tytingvåg Trio tourt seit vielen Jahren regelmäßig in Norwegen\, Deutschland und Österreich. Sie haben große Resonanz auf ihre Alben und Konzerte erhalten. \nAls Studentin studierte Randi Jazzgesang bei Lee Gibson und Komposition bei Michael Burnett. 2001 schloss sie ihr Musikstudium an der School of the Arts Roehampton in London ab. Ihr Debüt als Jazzsängerin gab sie im selben Jahr beim Maijazz-Festival in Stavanger. 2004 wurde sie zur Künstlerin des Jahres in ihrer Heimatstadt gekürt. 2006 debütierte Randi als Schauspielerin in dem Musicaldrama Skyfri himmel (Olaug Nilssen/Bjørn Eidsvåg) am Theater Rogaland. Im Herbst 2011 arbeitete Randi in einem neuen Stück am selben Theater\, MOR: Eg konne vel tenkt meg å gå heile Den kinesiske mur (Rønnaug Kleiva/Randi Tytingvåg). Diesmal basierte es auf eigenen Kompositionen. \nTickets gibt es online in unserem Shop oder können unter vorstand@wegart-kultur.de reserviert werden. \nRandi Tytingvåg: Gesang\nDag Vagle: Gitarre\, Gesang\, Backing Vocals\nErlend E. Aasland: Tenorgitarre\, Banjo\, Mandola\, Backing Vocals
URL:https://wegwarte-lucklum.de/event/randi-tytingvag-trio/
LOCATION:Ackerpferdestall (ehe. Wegwarte)\, Gutshof 11\, 38173 Lucklum\, Niedersachsen\, 38173\, Deutschland
CATEGORIES:Konzert
ORGANIZER;CN="Kulturverein WegArt":MAILTO:vorstand@wegart-kultur.de
END:VEVENT
END:VCALENDAR